BEGIN:VCALENDAR
VERSION:2.0
PRODID:-//Fidele Burggrafen 1937 e.V. Bad Godesberg - ECPv6.13.2.1//NONSGML v1.0//EN
CALSCALE:GREGORIAN
METHOD:PUBLISH
X-WR-CALNAME:Fidele Burggrafen 1937 e.V. Bad Godesberg
X-ORIGINAL-URL:https://fidele-burggrafen.de
X-WR-CALDESC:Veranstaltungen für Fidele Burggrafen 1937 e.V. Bad Godesberg
REFRESH-INTERVAL;VALUE=DURATION:PT1H
X-Robots-Tag:noindex
X-PUBLISHED-TTL:PT1H
BEGIN:VTIMEZONE
TZID:Europe/Berlin
BEGIN:DAYLIGHT
TZOFFSETFROM:+0100
TZOFFSETTO:+0200
TZNAME:CEST
DTSTART:20260329T010000
END:DAYLIGHT
BEGIN:STANDARD
TZOFFSETFROM:+0200
TZOFFSETTO:+0100
TZNAME:CET
DTSTART:20261025T010000
END:STANDARD
END:VTIMEZONE
BEGIN:VEVENT
DTSTART;TZID=Europe/Berlin:20260116T173000
DTEND;TZID=Europe/Berlin:20260116T233000
DTSTAMP:20260419T155653
CREATED:20250518T170135Z
LAST-MODIFIED:20250624T102127Z
UID:8496-1768584600-1768606200@fidele-burggrafen.de
SUMMARY:Prunksitzung der Fidelen Burggrafen 25/26
DESCRIPTION:Am 16.01.2026 ist es wieder so weit – unsere Prunksitzung findet statt! Mit dabei\, u. a.: Guido Cantz\, Miljö\, Willi und Ernst\, Cöllner sowie das Tanzcorps Colonia Rut-Wiess.
URL:https://fidele-burggrafen.de/event/prunksitzung-der-fidelen-burggrafen/
LOCATION:Brückenforum\, Friedrich-Breuer Str. 17\, 53225 Bonn
ATTACH;FMTTYPE=image/jpeg:https://fidele-burggrafen.de/wp-content/uploads/2025/05/1750760277402-a6bcd138-3d70-4a5d-8ff8-a20f12627f02_1.jpg
END:VEVENT
END:VCALENDAR