BEGIN:VCALENDAR
VERSION:2.0
PRODID:-//Fidele Burggrafen 1937 e.V. Bad Godesberg - ECPv6.13.2.1//NONSGML v1.0//EN
CALSCALE:GREGORIAN
METHOD:PUBLISH
X-ORIGINAL-URL:https://fidele-burggrafen.de
X-WR-CALDESC:Veranstaltungen für Fidele Burggrafen 1937 e.V. Bad Godesberg
REFRESH-INTERVAL;VALUE=DURATION:PT1H
X-Robots-Tag:noindex
X-PUBLISHED-TTL:PT1H
BEGIN:VTIMEZONE
TZID:Europe/Berlin
BEGIN:DAYLIGHT
TZOFFSETFROM:+0100
TZOFFSETTO:+0200
TZNAME:CEST
DTSTART:20260329T010000
END:DAYLIGHT
BEGIN:STANDARD
TZOFFSETFROM:+0200
TZOFFSETTO:+0100
TZNAME:CET
DTSTART:20261025T010000
END:STANDARD
END:VTIMEZONE
BEGIN:VEVENT
DTSTART;TZID=Europe/Berlin:20260131T140000
DTEND;TZID=Europe/Berlin:20260131T140000
DTSTAMP:20260419T143302
CREATED:20251102T143141Z
LAST-MODIFIED:20251106T085224Z
UID:9526-1769868000-1769868000@fidele-burggrafen.de
SUMMARY:Kinderkostümfest 31.01.2026
DESCRIPTION:Am 31. Januar 2026 laden die Fidelen Burggrafen wieder alle kleinen Narren zum Kinder-Kostümfest ein – erstmals in der neuen Location: Grundschule Mehlem! \nEinlass: ab 14:00 Uhr\nBeginn: 15:00 Uhr \nFreut euch auf ein buntes Programm mit Kinderspielen\, Tombola\, Kaffee und Kuchen sowie tollen Auftritten: \ndes Godesberger Prinzenpaares \ndes Godesberger Kinderprinzenpaares \ndes Lannesdorfer Kinderprinzenpaares \nund des Kadettenkorps der Fidelen Burggrafen \nEin Spaß für die ganze Familie – kommt vorbei und feiert mit uns!
URL:https://fidele-burggrafen.de/event/kinderkostuemfest-31-01-2026/
LOCATION:Grundschule Mehlem\, Friedrich-Bleek Straße 2_5\, Bonn-Mehlem\, 53179\, Germany
ATTACH;FMTTYPE=image/jpeg:https://fidele-burggrafen.de/wp-content/uploads/2025/11/Medien.jpg
END:VEVENT
END:VCALENDAR